BEGIN:VCALENDAR
VERSION:2.0
PRODID:-//ISPE D/A/CH - ECPv6.15.18//NONSGML v1.0//EN
CALSCALE:GREGORIAN
METHOD:PUBLISH
X-ORIGINAL-URL:https://en.ispe-dach.org
X-WR-CALDESC:Events for ISPE D/A/CH
REFRESH-INTERVAL;VALUE=DURATION:PT1H
X-Robots-Tag:noindex
X-PUBLISHED-TTL:PT1H
BEGIN:VTIMEZONE
TZID:Europe/Berlin
BEGIN:DAYLIGHT
TZOFFSETFROM:+0100
TZOFFSETTO:+0200
TZNAME:CEST
DTSTART:20220327T010000
END:DAYLIGHT
BEGIN:STANDARD
TZOFFSETFROM:+0200
TZOFFSETTO:+0100
TZNAME:CET
DTSTART:20221030T010000
END:STANDARD
BEGIN:DAYLIGHT
TZOFFSETFROM:+0100
TZOFFSETTO:+0200
TZNAME:CEST
DTSTART:20230326T010000
END:DAYLIGHT
BEGIN:STANDARD
TZOFFSETFROM:+0200
TZOFFSETTO:+0100
TZNAME:CET
DTSTART:20231029T010000
END:STANDARD
BEGIN:DAYLIGHT
TZOFFSETFROM:+0100
TZOFFSETTO:+0200
TZNAME:CEST
DTSTART:20240331T010000
END:DAYLIGHT
BEGIN:STANDARD
TZOFFSETFROM:+0200
TZOFFSETTO:+0100
TZNAME:CET
DTSTART:20241027T010000
END:STANDARD
END:VTIMEZONE
BEGIN:VEVENT
DTSTART;TZID=Europe/Berlin:20231109T140000
DTEND;TZID=Europe/Berlin:20231109T170000
DTSTAMP:20260421T114929
CREATED:20230816T143309Z
LAST-MODIFIED:20230918T064913Z
UID:14878-1699538400-1699549200@en.ispe-dach.org
SUMMARY:Online Self-Branding Workshop\, Part 1
DESCRIPTION:Tech Tuesday BWT Aqua AG				\n				\n				\n				\n							\n			\n		\n						\n				\n					\n		\n					\n		\n				\n						\n					\n			\n						\n				\n									Our CoP Project Management invites you to BWT Aqua AG for an event about pharmaceutical water treatment. The focus will be on current trends such as energy-efficient WFI production\, methods for detecting and counting germs in water and innovative technologies for quality and sustainability. Our speakers Marcel Zehnder and Linda Bärtschiger will focus on the following topics in particular:  How is WFI produced in an energy-efficient way today – and what does this mean for the future?Can you see or even count germs in water – and how does this work?Which technologies are setting new standards in terms of quality\, sustainability and performance?								\n				\n				\n				\n							\n			\n		\n						\n				\n					\n		\n				\n			\n						\n				\n									In the subsequent hands-on workshop\, participants can experience the systems up close in production and at the FAT. The event will conclude with an aperitif\, during which there will be an opportunity for a professional exchange with experts. 								\n				\n				\n				\n							\n			\n						\n		\n						\n				\n				\n				\n							\n			\n		\n						\n				\n				\n				\n									We look forward to getting to know you and hearing your views on the future of water treatment. 								\n				\n					\n		\n					\n		\n				\n						\n					\n			\n						\n				\n					Key Details				\n				\n				\n				\n							\n			\n		\n						\n				\n					\n		\n					\n		\n				\n						\n					\n			\n						\n				\n									Date23.06.2026 6:00 pm – 8:00 pm LocationBWT Aqua AGHauptstrasse 1924147 AeschSwitzerland LanguageEnglish. 								\n				\n					\n		\n				\n			\n						\n				\n									Workshop sizeThe number of participants is limited to 45 in order to ensure an efficient exchange. Participation feeParticipation is free of charge. RegistrationRegistration can only be done via the online form. Use the following button to go to the registration page 								\n				\n				\n				\n									\n					\n						\n									Registration
URL:https://en.ispe-dach.org/events/online-self-branding-workshop/
LOCATION:Online\, Online
CATEGORIES:Women in Pharma
END:VEVENT
BEGIN:VEVENT
DTSTART;VALUE=DATE:20231116
DTEND;VALUE=DATE:20231118
DTSTAMP:20260421T114929
CREATED:20230630T100515Z
LAST-MODIFIED:20231116T074358Z
UID:14499-1700092800-1700265599@en.ispe-dach.org
SUMMARY:Future Leaders Days 2023 - Ingenuity in Pharma - Smart Ways to Advance Drug Manufacturing
DESCRIPTION:Tech Tuesday BWT Aqua AG				\n				\n				\n				\n							\n			\n		\n						\n				\n					\n		\n					\n		\n				\n						\n					\n			\n						\n				\n									Our CoP Project Management invites you to BWT Aqua AG for an event about pharmaceutical water treatment. The focus will be on current trends such as energy-efficient WFI production\, methods for detecting and counting germs in water and innovative technologies for quality and sustainability. Our speakers Marcel Zehnder and Linda Bärtschiger will focus on the following topics in particular:  How is WFI produced in an energy-efficient way today – and what does this mean for the future?Can you see or even count germs in water – and how does this work?Which technologies are setting new standards in terms of quality\, sustainability and performance?								\n				\n				\n				\n							\n			\n		\n						\n				\n					\n		\n				\n			\n						\n				\n									In the subsequent hands-on workshop\, participants can experience the systems up close in production and at the FAT. The event will conclude with an aperitif\, during which there will be an opportunity for a professional exchange with experts. 								\n				\n				\n				\n							\n			\n						\n		\n						\n				\n				\n				\n							\n			\n		\n						\n				\n				\n				\n									We look forward to getting to know you and hearing your views on the future of water treatment. 								\n				\n					\n		\n					\n		\n				\n						\n					\n			\n						\n				\n					Key Details				\n				\n				\n				\n							\n			\n		\n						\n				\n					\n		\n					\n		\n				\n						\n					\n			\n						\n				\n									Date23.06.2026 6:00 pm – 8:00 pm LocationBWT Aqua AGHauptstrasse 1924147 AeschSwitzerland LanguageEnglish. 								\n				\n					\n		\n				\n			\n						\n				\n									Workshop sizeThe number of participants is limited to 45 in order to ensure an efficient exchange. Participation feeParticipation is free of charge. RegistrationRegistration can only be done via the online form. Use the following button to go to the registration page 								\n				\n				\n				\n									\n					\n						\n									Registration
URL:https://en.ispe-dach.org/events/future-leaders-days-2023/
LOCATION:Merck Co KGaA\, Darmstadt\, Frankfurter Straße 250\, Darmstadt\, 64293\, Germany
CATEGORIES:Emerging Leaders and Students
ORGANIZER;CN="ISPE Emerging Leaders":MAILTO:EL@ispe-dach.org
END:VEVENT
BEGIN:VEVENT
DTSTART;TZID=Europe/Berlin:20231123T140000
DTEND;TZID=Europe/Berlin:20231123T170000
DTSTAMP:20260421T114929
CREATED:20230816T143652Z
LAST-MODIFIED:20230918T065028Z
UID:14884-1700748000-1700758800@en.ispe-dach.org
SUMMARY:Online Self-Branding Workshop\, Part 2
DESCRIPTION:Tech Tuesday BWT Aqua AG				\n				\n				\n				\n							\n			\n		\n						\n				\n					\n		\n					\n		\n				\n						\n					\n			\n						\n				\n									Our CoP Project Management invites you to BWT Aqua AG for an event about pharmaceutical water treatment. The focus will be on current trends such as energy-efficient WFI production\, methods for detecting and counting germs in water and innovative technologies for quality and sustainability. Our speakers Marcel Zehnder and Linda Bärtschiger will focus on the following topics in particular:  How is WFI produced in an energy-efficient way today – and what does this mean for the future?Can you see or even count germs in water – and how does this work?Which technologies are setting new standards in terms of quality\, sustainability and performance?								\n				\n				\n				\n							\n			\n		\n						\n				\n					\n		\n				\n			\n						\n				\n									In the subsequent hands-on workshop\, participants can experience the systems up close in production and at the FAT. The event will conclude with an aperitif\, during which there will be an opportunity for a professional exchange with experts. 								\n				\n				\n				\n							\n			\n						\n		\n						\n				\n				\n				\n							\n			\n		\n						\n				\n				\n				\n									We look forward to getting to know you and hearing your views on the future of water treatment. 								\n				\n					\n		\n					\n		\n				\n						\n					\n			\n						\n				\n					Key Details				\n				\n				\n				\n							\n			\n		\n						\n				\n					\n		\n					\n		\n				\n						\n					\n			\n						\n				\n									Date23.06.2026 6:00 pm – 8:00 pm LocationBWT Aqua AGHauptstrasse 1924147 AeschSwitzerland LanguageEnglish. 								\n				\n					\n		\n				\n			\n						\n				\n									Workshop sizeThe number of participants is limited to 45 in order to ensure an efficient exchange. Participation feeParticipation is free of charge. RegistrationRegistration can only be done via the online form. Use the following button to go to the registration page 								\n				\n				\n				\n									\n					\n						\n									Registration
URL:https://en.ispe-dach.org/events/online-self-branding-workshop-part-2/
LOCATION:Online\, Online
END:VEVENT
END:VCALENDAR