BEGIN:VCALENDAR
VERSION:2.0
PRODID:-//ISPE D/A/CH - ECPv6.15.18//NONSGML v1.0//EN
CALSCALE:GREGORIAN
METHOD:PUBLISH
X-WR-CALNAME:ISPE D/A/CH
X-ORIGINAL-URL:https://en.ispe-dach.org
X-WR-CALDESC:Events for ISPE D/A/CH
REFRESH-INTERVAL;VALUE=DURATION:PT1H
X-Robots-Tag:noindex
X-PUBLISHED-TTL:PT1H
BEGIN:VTIMEZONE
TZID:Europe/Berlin
BEGIN:DAYLIGHT
TZOFFSETFROM:+0100
TZOFFSETTO:+0200
TZNAME:CEST
DTSTART:20240331T010000
END:DAYLIGHT
BEGIN:STANDARD
TZOFFSETFROM:+0200
TZOFFSETTO:+0100
TZNAME:CET
DTSTART:20241027T010000
END:STANDARD
BEGIN:DAYLIGHT
TZOFFSETFROM:+0100
TZOFFSETTO:+0200
TZNAME:CEST
DTSTART:20250330T010000
END:DAYLIGHT
BEGIN:STANDARD
TZOFFSETFROM:+0200
TZOFFSETTO:+0100
TZNAME:CET
DTSTART:20251026T010000
END:STANDARD
BEGIN:DAYLIGHT
TZOFFSETFROM:+0100
TZOFFSETTO:+0200
TZNAME:CEST
DTSTART:20260329T010000
END:DAYLIGHT
BEGIN:STANDARD
TZOFFSETFROM:+0200
TZOFFSETTO:+0100
TZNAME:CET
DTSTART:20261025T010000
END:STANDARD
END:VTIMEZONE
BEGIN:VEVENT
DTSTART;TZID=Europe/Berlin:20251008T130000
DTEND;TZID=Europe/Berlin:20251009T143000
DTSTAMP:20260421T100920
CREATED:20250520T115613Z
LAST-MODIFIED:20250812T161653Z
UID:20843-1759928400-1760020200@en.ispe-dach.org
SUMMARY:Paths to the right containment concept
DESCRIPTION:Tech Tuesday BWT Aqua AG				\n				\n				\n				\n							\n			\n		\n						\n				\n					\n		\n					\n		\n				\n						\n					\n			\n						\n				\n									Our CoP Project Management invites you to BWT Aqua AG for an event about pharmaceutical water treatment. The focus will be on current trends such as energy-efficient WFI production\, methods for detecting and counting germs in water and innovative technologies for quality and sustainability. Our speakers Marcel Zehnder and Linda Bärtschiger will focus on the following topics in particular:  How is WFI produced in an energy-efficient way today – and what does this mean for the future?Can you see or even count germs in water – and how does this work?Which technologies are setting new standards in terms of quality\, sustainability and performance?								\n				\n				\n				\n							\n			\n		\n						\n				\n					\n		\n				\n			\n						\n				\n									In the subsequent hands-on workshop\, participants can experience the systems up close in production and at the FAT. The event will conclude with an aperitif\, during which there will be an opportunity for a professional exchange with experts. 								\n				\n				\n				\n							\n			\n						\n		\n						\n				\n				\n				\n							\n			\n		\n						\n				\n				\n				\n									We look forward to getting to know you and hearing your views on the future of water treatment. 								\n				\n					\n		\n					\n		\n				\n						\n					\n			\n						\n				\n					Key Details				\n				\n				\n				\n							\n			\n		\n						\n				\n					\n		\n					\n		\n				\n						\n					\n			\n						\n				\n									Date23.06.2026 6:00 pm – 8:00 pm LocationBWT Aqua AGMain street 1924147 AeschSwitzerland LanguageEnglish. 								\n				\n					\n		\n				\n			\n						\n				\n									Workshop sizeThe number of participants is limited to 45 in order to ensure an efficient exchange. Participation feeParticipation is free of charge. RegistrationRegistration can only be done via the online form. Use the following button to go to the registration page 								\n				\n				\n				\n									\n					\n						\n									Registration
URL:https://en.ispe-dach.org/events/paths-to-the-right-containment-concept/
LOCATION:Vetter Pharma\, Ravensburg\, 88212\, Germany
CATEGORIES:Cop Containment
ATTACH;FMTTYPE=image/png:https://en.ispe-dach.org/wp-content/uploads/2025/05/Wege-zum-passenden-Containmentkonzept_Header-1.png
END:VEVENT
BEGIN:VEVENT
DTSTART;TZID=Europe/Berlin:20251014T180000
DTEND;TZID=Europe/Berlin:20251014T203000
DTSTAMP:20260421T100920
CREATED:20250918T120309Z
LAST-MODIFIED:20251027T135745Z
UID:21872-1760464800-1760473800@en.ispe-dach.org
SUMMARY:Tech Tuesday @Lonza
DESCRIPTION:Tech Tuesday BWT Aqua AG				\n				\n				\n				\n							\n			\n		\n						\n				\n					\n		\n					\n		\n				\n						\n					\n			\n						\n				\n									Our CoP Project Management invites you to BWT Aqua AG for an event about pharmaceutical water treatment. The focus will be on current trends such as energy-efficient WFI production\, methods for detecting and counting germs in water and innovative technologies for quality and sustainability. Our speakers Marcel Zehnder and Linda Bärtschiger will focus on the following topics in particular:  How is WFI produced in an energy-efficient way today – and what does this mean for the future?Can you see or even count germs in water – and how does this work?Which technologies are setting new standards in terms of quality\, sustainability and performance?								\n				\n				\n				\n							\n			\n		\n						\n				\n					\n		\n				\n			\n						\n				\n									In the subsequent hands-on workshop\, participants can experience the systems up close in production and at the FAT. The event will conclude with an aperitif\, during which there will be an opportunity for a professional exchange with experts. 								\n				\n				\n				\n							\n			\n						\n		\n						\n				\n				\n				\n							\n			\n		\n						\n				\n				\n				\n									We look forward to getting to know you and hearing your views on the future of water treatment. 								\n				\n					\n		\n					\n		\n				\n						\n					\n			\n						\n				\n					Key Details				\n				\n				\n				\n							\n			\n		\n						\n				\n					\n		\n					\n		\n				\n						\n					\n			\n						\n				\n									Date23.06.2026 6:00 pm – 8:00 pm LocationBWT Aqua AGMain street 1924147 AeschSwitzerland LanguageEnglish. 								\n				\n					\n		\n				\n			\n						\n				\n									Workshop sizeThe number of participants is limited to 45 in order to ensure an efficient exchange. Participation feeParticipation is free of charge. RegistrationRegistration can only be done via the online form. Use the following button to go to the registration page 								\n				\n				\n				\n									\n					\n						\n									Registration
URL:https://en.ispe-dach.org/events/tech-tuesday-at-lonza/
LOCATION:Lonza memox.world\, Elisabethenstrasse 15\, Basel\, 4051\, Switzerland
CATEGORIES:CoP Project Management
ATTACH;FMTTYPE=image/png:https://en.ispe-dach.org/wp-content/uploads/2024/11/ISPE-DACH-Banner-neu.png
END:VEVENT
END:VCALENDAR